BEGIN:VCALENDAR
VERSION:2.0
PRODID:-//Wilde Zwanen - ECPv6.15.20//NONSGML v1.0//EN
CALSCALE:GREGORIAN
METHOD:PUBLISH
X-WR-CALNAME:Wilde Zwanen
X-ORIGINAL-URL:https://www.wildezwanen.be
X-WR-CALDESC:Evenementen voor Wilde Zwanen
REFRESH-INTERVAL;VALUE=DURATION:PT1H
X-Robots-Tag:noindex
X-PUBLISHED-TTL:PT1H
BEGIN:VTIMEZONE
TZID:Europe/Brussels
BEGIN:DAYLIGHT
TZOFFSETFROM:+0100
TZOFFSETTO:+0200
TZNAME:CEST
DTSTART:20250330T010000
END:DAYLIGHT
BEGIN:STANDARD
TZOFFSETFROM:+0200
TZOFFSETTO:+0100
TZNAME:CET
DTSTART:20251026T010000
END:STANDARD
BEGIN:DAYLIGHT
TZOFFSETFROM:+0100
TZOFFSETTO:+0200
TZNAME:CEST
DTSTART:20260329T010000
END:DAYLIGHT
BEGIN:STANDARD
TZOFFSETFROM:+0200
TZOFFSETTO:+0100
TZNAME:CET
DTSTART:20261025T010000
END:STANDARD
BEGIN:DAYLIGHT
TZOFFSETFROM:+0100
TZOFFSETTO:+0200
TZNAME:CEST
DTSTART:20270328T010000
END:DAYLIGHT
BEGIN:STANDARD
TZOFFSETFROM:+0200
TZOFFSETTO:+0100
TZNAME:CET
DTSTART:20271031T010000
END:STANDARD
END:VTIMEZONE
BEGIN:VEVENT
DTSTART;VALUE=DATE:20260102
DTEND;VALUE=DATE:20270101
DTSTAMP:20260422T201601
CREATED:20240613T074022Z
LAST-MODIFIED:20251106T112136Z
UID:1197-1767312000-1798761599@www.wildezwanen.be
SUMMARY:Een organisatie architect als bondgenoot? Interim management\, ja zoiets.
DESCRIPTION:Is jouw organisatie of netwerk in transformatie? Haal dan organisatie architectuur-expertise aan boord!\n\nVoor wanneer verandering geen project is\, maar een proces dat je van binnenuit wil laten leven.\nVersterk jouw change- of transitievlucht met een interne organisatiearchitect \nHeb je nood aan extra capaciTIJD om met volle aandacht aan je verander- of transitievragen te werken? Zit je midden in een ontwikkelspanning rond teams\, leiderschap of organisatieontwerp\, maar ontbreekt het aan iemand die vanuit rust én scherpte mee kan bewegen? \nDan kan een interne organisatiearchitect – die naast je staat waar het spannend wordt\, en wijsheid toevoegt waar het nodig is – precies zijn wat jou en je organisatie verder brengt. \nOrganiseren en ontwikkelen vraagt vakmanschap \nWe weten het intussen: de wereld is complex. Maar het cliché maakt het niet minder waar. Werken aan structuren en mensen vraagt méér dan ideeën of plannen. Het vraagt aandacht\, precisie\, timing. Het vraagt vakmanschap. En ervaring die meebeweegt met wat zich aandient. \nIn de praktijk blijkt dat precies dát vaak ontbreekt: tijd\, capaciteit of continuïteit om een traject écht vorm te geven. Ervaren mensen zijn druk bezet of stromen uit. Jongere collega’s worden wel eens ‘erin gegooid’\, wat leidt tot leerrijke ervaringen\, maar ook frustratie\, verlies van energie\, en soms zelfs schade. \nNiemand kent een organisatie beter dan de mensen die er dagelijks in bewegen. Tegelijk kan je die kennis versterken met een blik die van buiten naar binnen beweegt. Het samenspel is waar de kracht ligt. Niet of/of\, maar én/én. Niet begeleiding\, wel flankering. \nHet bos én de bomen \nAls leider\, HR-verantwoordelijke of directie stuit je vroeg of laat op dezelfde vragen. Wat heeft onze organisatie nu echt nodig? Welk type expertise? Welk model? Wat werkt bij ons\, met onze mensen\, in deze context? \nIn het landschap van externe begeleiding is de keuze reusachtig én verwarrend. Moeten we inzetten op Sociocratie\, Holacracy\, LEAN\, QRM\, Deep Democracy\, innovatieve arbeidsorganisatie\, systemisch kijken\, regeneratief leiderschap? Hebben we nood aan een coach\, een adviseur\, een mentor\, of doen we het gewoon zelf? \nHet gevolg is vaak een zoektocht die veel vraagt en weinig verankert. Elk extern traject begint opnieuw. Telkens weer tijd\, middelen en vertrouwen investeren om iemand in te wijden. En hoewel begeleiding iets in beweging zet\, blijft het vaak te fragiel of te versnipperd. \nWat als er iemand mee zou vliegen?  \nStel je voor: \n\nIemand die toegang heeft tot diepgaande kennis én zich beweegt op jouw ritme.\nIemand die meekijkt\, meevliegt en meevoelt\, maar ook stuurt wanneer het nodig is.\nIemand die jouw context begrijpt\, het geheel ziet én de details niet vergeet.\nIemand die verbinding brengt tussen wat gedacht is en wat geleefd moet worden.\nIemand die tempo voelt\, timing aanvoelt en weet wanneer te vertragen of te versnellen.\n\nEen interne organisatiearchitect versterkt zowel het individu als het collectief. Hij of zij wordt tijdelijk collega\, zonder vaste stoel. Komt in huis\, maar blijft ook spiegel. Neemt geen positie over\, maar nodigt uit tot beweging. En werkt altijd in functie van wat nodig is\, niet van wat ‘gepland’ was. \nIs dit dan geen interim management? \nNiet helemaal. Of beter: niet zoals we het vaak kennen. \nJa\, we werken van binnenuit. Ja\, we stappen in je ritme en bouwen relatie op lange termijn. We zijn rolflexibel. We ‘doen’ niet in de plaats van. We willen versterken\, verhelderen\, verankeren. \nOnze rol start met het mandaat om te bewegen op systeemniveau\, in gesprek met de directie of leiding\, en strekt zich uit van cultuur tot structuur\, van leiderschap tot leerpad. Altijd in verbinding. Altijd gericht op kennisoverdracht. Zodat we op termijn niet meer nodig zijn\, of net beschikbaar worden voor nieuwe vragen. \nEn praktisch? \nEen interne organisatiearchitect: \n\nwerkt binnen een afgesproken ritme (bij voorkeur min. 1 en max. 3 dagen/week)\nbeweegt tussen individueel werk\, collectieve trajecten en systemische opdrachten\ninitieert ook zelf acties op basis van wat wordt gezien\, gevoeld of benoemd\nzet actief in op kennisverweving via formats\, overdracht of documentatie\nbrengt eigen expertise mee en schakelt andere expertise in waar nodig\nbewaakt voortdurend de toegevoegde waarde van zijn/haar aanwezigheid\nheeft mandaat om de afgesproken rol ook op te nemen\n\nMeer weten? \nLaten we kennismaken. Of kom langs op een inspiratiecafé.\nWe kijken uit naar het gesprek! \n\n\n                \n                        \n                            Download de brochure "een organisatie architect als bondgenoot"\n                             \n                        \n                        Naam(Vereist)\n                            \n                            \n                                                    \n                                                    Voornaam\n                                                \n                            \n                            \n                                                    \n                                                    Achternaam\n                                                \n                            \n                        E-mailadres(Vereist)\n                            \n                        Organisatie JA ik ontvang graag jullie nieuwsbrief en info over jullie aanbod\n          \n            \n            \n            \n            \n            \n            \n            \n            \n            \n            \n            \n            \n            \n        \n                        Δ \n                        \n\n  \n \n  \n  \n  \n  \n  \n  \n  \n  \n  \n  \n 
URL:https://www.wildezwanen.be/agenda-item/interne-organisatie-architect/
END:VEVENT
END:VCALENDAR