BEGIN:VCALENDAR
VERSION:2.0
PRODID:-//Wilde Zwanen - ECPv6.15.20//NONSGML v1.0//EN
CALSCALE:GREGORIAN
METHOD:PUBLISH
X-ORIGINAL-URL:https://www.wildezwanen.be
X-WR-CALDESC:Evenementen voor Wilde Zwanen
REFRESH-INTERVAL;VALUE=DURATION:PT1H
X-Robots-Tag:noindex
X-PUBLISHED-TTL:PT1H
BEGIN:VTIMEZONE
TZID:Europe/Brussels
BEGIN:DAYLIGHT
TZOFFSETFROM:+0100
TZOFFSETTO:+0200
TZNAME:CEST
DTSTART:20250330T010000
END:DAYLIGHT
BEGIN:STANDARD
TZOFFSETFROM:+0200
TZOFFSETTO:+0100
TZNAME:CET
DTSTART:20251026T010000
END:STANDARD
BEGIN:DAYLIGHT
TZOFFSETFROM:+0100
TZOFFSETTO:+0200
TZNAME:CEST
DTSTART:20260329T010000
END:DAYLIGHT
BEGIN:STANDARD
TZOFFSETFROM:+0200
TZOFFSETTO:+0100
TZNAME:CET
DTSTART:20261025T010000
END:STANDARD
BEGIN:DAYLIGHT
TZOFFSETFROM:+0100
TZOFFSETTO:+0200
TZNAME:CEST
DTSTART:20270328T010000
END:DAYLIGHT
BEGIN:STANDARD
TZOFFSETFROM:+0200
TZOFFSETTO:+0100
TZNAME:CET
DTSTART:20271031T010000
END:STANDARD
END:VTIMEZONE
BEGIN:VEVENT
DTSTART;TZID=Europe/Brussels:20260203T080000
DTEND;TZID=Europe/Brussels:20260203T170000
DTSTAMP:20260422T121401
CREATED:20251120T161814Z
LAST-MODIFIED:20260119T140909Z
UID:2903-1770105600-1770138000@www.wildezwanen.be
SUMMARY:Workshop “Goesting kan je organiseren!” ***VOLZET***
DESCRIPTION:Welzijn vraagt continuous improvement\nAbsenteïsme vormt voor veel organisaties een groeiende bron van stress en kosten. Collega’s en leidinggevenden moeten bijspringen om planningen rond te krijgen\, terwijl productiviteit en efficiëntie onder druk staan. Maar wat als we het anders bekijken? Wat als we welzijn en goesting niet zien als toevallig\, maar als ontstaat uit de manier waarop we ons organiseren? Wat de optie open dat we er bewust impact op hebben Iets wat je bewust kunt organiseren en verbeteren? \nTijdens deze interactieve workshop ontdek je hoe werken aan leiderschap\, cultuur\, processen en continuous improvement (CI) samen een hefboom vormen voor meer betrokkenheid\, motivatie en werkplezier. Je krijgt een een vernieuwende kijk aangereikt. Aangevuld met concrete goede voorbeelden en verbeteringen\, die stap voor stap leiden tot een duurzame cultuur van welzijn\, samenwerking en resultaatgerichtheid. \nWat mag je verwachten?\nWe gaan aan de slag met inzichten\, praktische tools en inspirerende voorbeelden rond: \n\nHoe leidinggevenden en teams samen goesting kunnen organiseren\nHoe principes van continuous improvement bijdragen aan duurzaam werkgeluk\nHoe je absenteïsme kunt begrijpen als signaal dat uitnodigt tot dieper kijken naar de organisatiecontext\n\nJe ontdekt hoe welzijn niet enkel gaat over het individu\, maar ook over de brede context van werk\, organisatie en samenleving. Vanuit CI en leiderschapsontwikkeling onderzoeken we hoe het bewust ontwerpen van teams\, structuren en rollen kan bijdragen aan een omgeving waarin mensen zich gezien\, gedragen en uitgenodigd voelen om hun volle potentieel te leven. \nOnze leidraad: \n“Wil je van A naar B? Doe B.”\nBreng vandaag al tot leven wat je morgen wilt bereiken. \nJe vertrekt met inspiratie én een concreet actieplan om stap voor stap meer energie\, samenwerking en positiviteit te brengen in je organisatie. \n \nPraktische info\nDatum: 03/02/2026 \nLocatie: Regio Antwerpen \nDoelgroep: Leidinggevenden\, teamcoaches\, CI & OPEX leaders\, HR-professionals en iedereen die gelooft dat welzijn de motor is van prestatie \nInschrijvingskost : 450 euro /deelnemer excl. btw en als je in duo/firma komt (bv CI + HRM) is het 650 euro / duo excl. btw \nProgramma : \nVanaf 8u ontvangst\, start om 9u\, we ronden af rond 16u30 en beëindigen de dag ten laatste om 17u. \n\nEen vernieuwend blik op WELZIJN\nAnalyse van de eigen context\n\nSymptomen leren spotten\nZelf-analyse tool leren kennen en gebruiken\n\n\nFundamentele voorwaarden voor WELZIJN in een organisatie context\n\nRichten en verbinden\nHet organisatie KOMPAS als fundament\n\n\nDe rol van PEOPLE (HR) en CI als hefboom voor WELZIJN\nWELZIJN inrichten (impact van structuur\, organisatie (her)ontwerp\nTips (waar je nog niet aan dacht) om WELZIJN te bevorderen & goesting te creëren.\nVoorbeelden uit de praktijk\nVertalen van de aangeleverde inzichten naar de eigen context\n\nInschrijven? Deze editie is helaas volzet. Heb je interesse in een volgende editie of wil je de workshop intern organiseren\, stuur ons dan een berichtje via het contactformulier.
URL:https://www.wildezwanen.be/agenda-item/260203-goesting-kan-je-organiseren/
END:VEVENT
BEGIN:VEVENT
DTSTART;VALUE=DATE:20260101
DTEND;VALUE=DATE:20270101
DTSTAMP:20260422T121401
CREATED:20241014T070157Z
LAST-MODIFIED:20251106T112129Z
UID:1550-1767225600-1798761599@www.wildezwanen.be
SUMMARY:Als ondernemer\, bestuur\, leider\, leidinggevende\, people of change professional op zoek naar inspiratie? Plan een inspiratie sessie!
DESCRIPTION:Voel je het ook? Heel wat uitdagingen rond mens & organisatie die je niet “opgelost” krijgt met de gekende antwoorden?\nGoesting om jou te laten inspireren rond wat integraal\, organisatie denken voor het aanpakken van organisatie brede uitdagingen kan betekenen?\nOf heb je nood aan andere perspectieven bij het sleutelen aan teams\, leiderschap of organisatie?\nOf ben je gewoon nieuwsgierig wat organisatie ontwikkeling of -ontwerp te bieden heeft? \nWel dan is een inspiratie sessie iets voor jou/jullie! \nAanpak\n\n Jij laat van je horen of lezen\n We hebben een korte online intake over de uitdagingen die leven en wat maakt dat je uitreikt naar ons\n We plannen een concreet moment in van +/- 3u met jouw HR team\, management\, directie of bestuur\n\nPraktisch\n\n We richten ons op groepen tot 8 personen (om ruimte voor dialoog te garanderen)\n We brengen toegevoegde waarde tijdens de workshop zonder verdere verplichtingen (vanuit ons #Copy-left leidend principe). Ervaarde je waarde als groep onvoldoende of ben je niet tevreden\, dan betaal je ook niets. Heeft de workshop je iets gebracht en/of gaan we verder in de samenwerking dan rekenen we 660 EUR (eventueel te integreren in een verdere samenwerking).\n\nPrijs\nDe totaalprijs is € 1.000 (excl. BTW) voor de sessie zelf\, online voorbereiding (1u) en gebruik materiaal.\nLeidt de workshop tot een samenwerking\, dan bieden we € 500 korting aan. \nOnze belofte? \nNa verbindende\, mogelijks confronterende inzichten ben je geïnspireerd om “anders” en “effectiever” aan de slag te gaan met de organisatie eigen uitdagingen. \nOp zoek naar andere inspiratie vormen? \nDie zijn er\, download hier onze folder! \n  \n\n\n                \n                        \n                            Ik boek een inspiratie sessie\n                            Vul onderstaand formulier in en we nemen snel contact met je op om de verdere invulling te bespreken. \n                        \n                        Naam(Vereist)\n                            \n                            \n                                                    \n                                                    Voornaam\n                                                \n                            \n                            \n                                                    \n                                                    Achternaam\n                                                \n                            \n                        E-mailadres(Vereist)\n                            \n                        GSM nummer(Vereist)Functie(Vereist)Organisatie(Vereist)Facturatieadres(Vereist)    \n                    \n                         \n                                        \n                                        Straat + huisnummer\n                                    \n                                    \n                                    Plaats\n                                 \n                                    \n                                    Postcode\n                                \n                    \n                BTW nummer\n								\n								JA ik ontvang graag jullie nieuwsbrief en info over jullie aanbod. Schrap het vinkje als je dit niet wil.\n							\n          \n            \n            \n            \n            \n            \n            \n            \n            \n            \n            \n            \n            \n            \n        \n                        Δ
URL:https://www.wildezwanen.be/agenda-item/inspiratie-sessie/
END:VEVENT
END:VCALENDAR